{"text_format":"1","workbook":"xlsx","n_sheets":2,"sheets":["有形固定資産【千円単位】","有形固定資産【円単位】"],"not_rendered":{"charts":0,"images":0,"macros":1,"external_links":0,"defined_names":2,"comments":0,"pivot_tables":0},"unopened":[],"bounds":{"document_bytes":16777216,"sheet_cells":100000,"rows_first":2000,"rows_last":500,"rows_between":2000,"halvings":0,"cell_chars":16384,"cell_head_chars":4096},"cells_cut":0,"cells_raw":0,"read":"whole","date_system":"1900"}

{"sheet":"有形固定資産【千円単位】","index":0,"n_rows":26,"n_cols":10,"rows_kept":26,"cut":false,"hidden":false,"merged":[[0,0,0,3],[1,0,1,11],[2,0,2,4],[3,0,3,10],[4,0,4,10],[5,1,5,10],[8,1,8,2],[7,1,7,2],[10,1,10,2],[9,1,9,2],[12,1,12,2],[11,1,11,2],[14,1,14,2],[13,1,13,2],[16,1,16,2],[15,1,15,2],[25,1,25,2],[24,1,24,2],[23,1,23,2],[18,1,18,2],[17,1,17,2],[20,1,20,2],[19,1,19,2],[22,1,22,2],[21,1,21,2]]}
["【様式第５号】"]
["連結附属明細書"]
["１．貸借対照表の内容に関する明細"]
["　※下記以外の資産及び負債のうち、その額が資産総額の100分の5を超える科目についても作成する。"]
["（１）資産項目の明細"]
[]
[null,"①有形固定資産の明細",null,null,null,null,null,null,null,"（単位：　千円）"]
[null,"区分",null,"前年度末残高\n（A）","本年度増加額\n（B）","本年度減少額\n（C）","本年度末残高\n（A)＋（B)-（C)\n（D）","本年度末\n減価償却累計額\n（E)","本年度償却額\n（F)","差引本年度末残高\n（D)－（E)\n（G)"]
[null," 事業用資産",null,{"$f":"ROUND(有形固定資産【円単位】!D9:D9/1000,0)","v":6812418},{"$f":"ROUND(有形固定資産【円単位】!E9:E9/1000,0)","v":271904},{"$f":"ROUND(有形固定資産【円単位】!F9:F9/1000,0)","v":19238},{"$f":"ROUND(有形固定資産【円単位】!G9:G9/1000,0)","v":7065085},{"$f":"ROUND(有形固定資産【円単位】!H9:H9/1000,0)","v":4067097},{"$f":"ROUND(有形固定資産【円単位】!I9:I9/1000,0)","v":194233},{"$f":"ROUND(有形固定資産【円単位】!J9:J9/1000,0)","v":2997988}]
[null,"　  土地",null,{"$f":"ROUND(有形固定資産【円単位】!D10:D10/1000,0)","v":149934},{"$f":"ROUND(有形固定資産【円単位】!E10:E10/1000,0)","v":373},{"$f":"ROUND(有形固定資産【円単位】!F10:F10/1000,0)","v":1006},{"$f":"ROUND(有形固定資産【円単位】!G10:G10/1000,0)","v":149301},{"$f":"ROUND(有形固定資産【円単位】!H10:H10/1000,0)","v":0},{"$f":"ROUND(有形固定資産【円単位】!I10:I10/1000,0)","v":0},{"$f":"ROUND(有形固定資産【円単位】!J10:J10/1000,0)","v":149301}]
[null,"　　立木竹",null,{"$f":"ROUND(有形固定資産【円単位】!D11:D11/1000,0)","v":0},{"$f":"ROUND(有形固定資産【円単位】!E11:E11/1000,0)","v":0},{"$f":"ROUND(有形固定資産【円単位】!F11:F11/1000,0)","v":0},{"$f":"ROUND(有形固定資産【円単位】!G11:G11/1000,0)","v":0},{"$f":"ROUND(有形固定資産【円単位】!H11:H11/1000,0)","v":0},{"$f":"ROUND(有形固定資産【円単位】!I11:I11/1000,0)","v":0},{"$f":"ROUND(有形固定資産【円単位】!J11:J11/1000,0)","v":0}]
[null,"　　建物",null,{"$f":"ROUND(有形固定資産【円単位】!D12:D12/1000,0)","v":5665303},{"$f":"ROUND(有形固定資産【円単位】!E12:E12/1000,0)","v":36995},{"$f":"ROUND(有形固定資産【円単位】!F12:F12/1000,0)","v":9212},{"$f":"ROUND(有形固定資産【円単位】!G12:G12/1000,0)","v":5693087},{"$f":"ROUND(有形固定資産【円単位】!H12:H12/1000,0)","v":3400619},{"$f":"ROUND(有形固定資産【円単位】!I12:I12/1000,0)","v":158552},{"$f":"ROUND(有形固定資産【円単位】!J12:J12/1000,0)","v":2292468}]
[null,"　　工作物",null,{"$f":"ROUND(有形固定資産【円単位】!D13:D13/1000,0)","v":649342},{"$f":"ROUND(有形固定資産【円単位】!E13:E13/1000,0)","v":27503},{"$f":"ROUND(有形固定資産【円単位】!F13:F13/1000,0)","v":0},{"$f":"ROUND(有形固定資産【円単位】!G13:G13/1000,0)","v":676845},{"$f":"ROUND(有形固定資産【円単位】!H13:H13/1000,0)","v":338011},{"$f":"ROUND(有形固定資産【円単位】!I13:I13/1000,0)","v":33339},{"$f":"ROUND(有形固定資産【円単位】!J13:J13/1000,0)","v":338834}]
[null,"　　船舶",null,{"$f":"ROUND(有形固定資産【円単位】!D14:D14/1000,0)","v":338819},{"$f":"ROUND(有形固定資産【円単位】!E14:E14/1000,0)","v":99000},{"$f":"ROUND(有形固定資産【円単位】!F14:F14/1000,0)","v":0},{"$f":"ROUND(有形固定資産【円単位】!G14:G14/1000,0)","v":437819},{"$f":"ROUND(有形固定資産【円単位】!H14:H14/1000,0)","v":328467},{"$f":"ROUND(有形固定資産【円単位】!I14:I14/1000,0)","v":2342},{"$f":"ROUND(有形固定資産【円単位】!J14:J14/1000,0)","v":109352}]
[null,"　　浮標等",null,{"$f":"ROUND(有形固定資産【円単位】!D15:D15/1000,0)","v":0},{"$f":"ROUND(有形固定資産【円単位】!E15:E15/1000,0)","v":0},{"$f":"ROUND(有形固定資産【円単位】!F15:F15/1000,0)","v":0},{"$f":"ROUND(有形固定資産【円単位】!G15:G15/1000,0)","v":0},{"$f":"ROUND(有形固定資産【円単位】!H15:H15/1000,0)","v":0},{"$f":"ROUND(有形固定資産【円単位】!I15:I15/1000,0)","v":0},{"$f":"ROUND(有形固定資産【円単位】!J15:J15/1000,0)","v":0}]
[null,"　　航空機",null,{"$f":"ROUND(有形固定資産【円単位】!D16:D16/1000,0)","v":0},{"$f":"ROUND(有形固定資産【円単位】!E16:E16/1000,0)","v":0},{"$f":"ROUND(有形固定資産【円単位】!F16:F16/1000,0)","v":0},{"$f":"ROUND(有形固定資産【円単位】!G16:G16/1000,0)","v":0},{"$f":"ROUND(有形固定資産【円単位】!H16:H16/1000,0)","v":0},{"$f":"ROUND(有形固定資産【円単位】!I16:I16/1000,0)","v":0},{"$f":"ROUND(有形固定資産【円単位】!J16:J16/1000,0)","v":0}]
[null,"　　その他",null,{"$f":"ROUND(有形固定資産【円単位】!D17:D17/1000,0)","v":0},{"$f":"ROUND(有形固定資産【円単位】!E17:E17/1000,0)","v":0},{"$f":"ROUND(有形固定資産【円単位】!F17:F17/1000,0)","v":0},{"$f":"ROUND(有形固定資産【円単位】!G17:G17/1000,0)","v":0},{"$f":"ROUND(有形固定資産【円単位】!H17:H17/1000,0)","v":0},{"$f":"ROUND(有形固定資産【円単位】!I17:I17/1000,0)","v":0},{"$f":"ROUND(有形固定資産【円単位】!J17:J17/1000,0)","v":0}]
[null,"　　建設仮勘定",null,{"$f":"ROUND(有形固定資産【円単位】!D18:D18/1000,0)","v":9020},{"$f":"ROUND(有形固定資産【円単位】!E18:E18/1000,0)","v":108034},{"$f":"ROUND(有形固定資産【円単位】!F18:F18/1000,0)","v":9020},{"$f":"ROUND(有形固定資産【円単位】!G18:G18/1000,0)","v":108034},{"$f":"ROUND(有形固定資産【円単位】!H18:H18/1000,0)","v":0},{"$f":"ROUND(有形固定資産【円単位】!I18:I18/1000,0)","v":0},{"$f":"ROUND(有形固定資産【円単位】!J18:J18/1000,0)","v":108034}]
[null," インフラ資産",null,{"$f":"ROUND(有形固定資産【円単位】!D19:D19/1000,0)","v":10271242},{"$f":"ROUND(有形固定資産【円単位】!E19:E19/1000,0)","v":1662471},{"$f":"ROUND(有形固定資産【円単位】!F19:F19/1000,0)","v":1007123},{"$f":"ROUND(有形固定資産【円単位】!G19:G19/1000,0)","v":10926590},{"$f":"ROUND(有形固定資産【円単位】!H19:H19/1000,0)","v":5929055},{"$f":"ROUND(有形固定資産【円単位】!I19:I19/1000,0)","v":292239},{"$f":"ROUND(有形固定資産【円単位】!J19:J19/1000,0)","v":4997535}]
[null,"　　土地",null,{"$f":"ROUND(有形固定資産【円単位】!D20:D20/1000,0)","v":57574},{"$f":"ROUND(有形固定資産【円単位】!E20:E20/1000,0)","v":2300},{"$f":"ROUND(有形固定資産【円単位】!F20:F20/1000,0)","v":0},{"$f":"ROUND(有形固定資産【円単位】!G20:G20/1000,0)","v":59874},{"$f":"ROUND(有形固定資産【円単位】!H20:H20/1000,0)","v":0},{"$f":"ROUND(有形固定資産【円単位】!I20:I20/1000,0)","v":0},{"$f":"ROUND(有形固定資産【円単位】!J20:J20/1000,0)","v":59874}]
[null,"　　建物",null,{"$f":"ROUND(有形固定資産【円単位】!D21:D21/1000,0)","v":157333},{"$f":"ROUND(有形固定資産【円単位】!E21:E21/1000,0)","v":198062},{"$f":"ROUND(有形固定資産【円単位】!F21:F21/1000,0)","v":100526},{"$f":"ROUND(有形固定資産【円単位】!G21:G21/1000,0)","v":254869},{"$f":"ROUND(有形固定資産【円単位】!H21:H21/1000,0)","v":33816},{"$f":"ROUND(有形固定資産【円単位】!I21:I21/1000,0)","v":12541},{"$f":"ROUND(有形固定資産【円単位】!J21:J21/1000,0)","v":221053}]
[null,"　　工作物",null,{"$f":"ROUND(有形固定資産【円単位】!D22:D22/1000,0)","v":10054873},{"$f":"ROUND(有形固定資産【円単位】!E22:E22/1000,0)","v":1313807},{"$f":"ROUND(有形固定資産【円単位】!F22:F22/1000,0)","v":801044},{"$f":"ROUND(有形固定資産【円単位】!G22:G22/1000,0)","v":10567636},{"$f":"ROUND(有形固定資産【円単位】!H22:H22/1000,0)","v":5895239},{"$f":"ROUND(有形固定資産【円単位】!I22:I22/1000,0)","v":279698},{"$f":"ROUND(有形固定資産【円単位】!J22:J22/1000,0)","v":4672397}]
[null,"　　その他",null,{"$f":"ROUND(有形固定資産【円単位】!D23:D23/1000,0)","v":0},{"$f":"ROUND(有形固定資産【円単位】!E23:E23/1000,0)","v":2176},{"$f":"ROUND(有形固定資産【円単位】!F23:F23/1000,0)","v":0},{"$f":"ROUND(有形固定資産【円単位】!G23:G23/1000,0)","v":2176},{"$f":"ROUND(有形固定資産【円単位】!H23:H23/1000,0)","v":0},{"$f":"ROUND(有形固定資産【円単位】!I23:I23/1000,0)","v":0},{"$f":"ROUND(有形固定資産【円単位】!J23:J23/1000,0)","v":2176}]
[null,"　　建設仮勘定",null,{"$f":"ROUND(有形固定資産【円単位】!D24:D24/1000,0)","v":1463},{"$f":"ROUND(有形固定資産【円単位】!E24:E24/1000,0)","v":146125},{"$f":"ROUND(有形固定資産【円単位】!F24:F24/1000,0)","v":105553},{"$f":"ROUND(有形固定資産【円単位】!G24:G24/1000,0)","v":42035},{"$f":"ROUND(有形固定資産【円単位】!H24:H24/1000,0)","v":0},{"$f":"ROUND(有形固定資産【円単位】!I24:I24/1000,0)","v":0},{"$f":"ROUND(有形固定資産【円単位】!J24:J24/1000,0)","v":42035}]
[null," 物品",null,{"$f":"ROUND(有形固定資産【円単位】!D25:D25/1000,0)","v":1009264},{"$f":"ROUND(有形固定資産【円単位】!E25:E25/1000,0)","v":27745},{"$f":"ROUND(有形固定資産【円単位】!F25:F25/1000,0)","v":179},{"$f":"ROUND(有形固定資産【円単位】!G25:G25/1000,0)","v":1036831},{"$f":"ROUND(有形固定資産【円単位】!H25:H25/1000,0)","v":931313},{"$f":"ROUND(有形固定資産【円単位】!I25:I25/1000,0)","v":71800},{"$f":"ROUND(有形固定資産【円単位】!J25:J25/1000,0)","v":105517}]
[null,"合計",null,{"$f":"ROUND(有形固定資産【円単位】!D26:D26/1000,0)","v":18092924},{"$f":"ROUND(有形固定資産【円単位】!E26:E26/1000,0)","v":1962121},{"$f":"ROUND(有形固定資産【円単位】!F26:F26/1000,0)","v":1026539},{"$f":"ROUND(有形固定資産【円単位】!G26:G26/1000,0)","v":19028506},{"$f":"ROUND(有形固定資産【円単位】!H26:H26/1000,0)","v":10927465},{"$f":"ROUND(有形固定資産【円単位】!I26:I26/1000,0)","v":558272},{"$f":"ROUND(有形固定資産【円単位】!J26:J26/1000,0)","v":8101041}]

{"sheet":"有形固定資産【円単位】","index":1,"n_rows":26,"n_cols":10,"rows_kept":26,"cut":false,"hidden":false,"merged":[[0,0,0,3],[1,0,1,10],[2,0,2,4],[3,0,3,10],[4,0,4,10],[5,1,5,10],[8,1,8,2],[7,1,7,2],[10,1,10,2],[9,1,9,2],[12,1,12,2],[11,1,11,2],[14,1,14,2],[13,1,13,2],[16,1,16,2],[15,1,15,2],[25,1,25,2],[24,1,24,2],[23,1,23,2],[18,1,18,2],[17,1,17,2],[20,1,20,2],[19,1,19,2],[22,1,22,2],[21,1,21,2]]}
["【様式第５号】"]
["連結附属明細書"]
["１．貸借対照表の内容に関する明細"]
["　※下記以外の資産及び負債のうち、その額が資産総額の100分の5を超える科目についても作成する。"]
["（１）資産項目の明細"]
[]
[null,"①有形固定資産の明細",null,null,null,null,null,null,null,"（単位：　円）"]
[null,"区分",null,"前年度末残高\n（A）","本年度増加額\n（B）","本年度減少額\n（C）","本年度末残高\n（A)＋（B)-（C)\n（D）","本年度末\n減価償却累計額\n（E)","本年度償却額\n（F)","差引本年度末残高\n（D)－（E)\n（G)"]
[null," 事業用資産",null,6812418032,271904320,19237520,7065084832,4067096562,194232978,2997988270]
[null,"　  土地",null,149934171,372815,1006020,149300966,0,0,149300966]
[null,"　　立木竹",null,0,0,0,0,0,0,0]
[null,"　　建物",null,5665303366,36994870,9211500,5693086736,3400618752,158551887,2292467984]
[null,"　　工作物",null,649341550,27503133,0,676844683,338010639,33338941,338834044]
[null,"　　船舶",null,338818945,98999999,0,437818944,328467171,2342150,109351773]
[null,"　　浮標等",null,0,0,0,0,0,0,0]
[null,"　　航空機",null,0,0,0,0,0,0,0]
[null,"　　その他",null,0,0,0,0,0,0,0]
[null,"　　建設仮勘定",null,9020000,108033503,9020000,108033503,0,0,108033503]
[null," インフラ資産",null,10271242016,1662471178,1007122791,10926590403,5929055308,292239075,4997535095]
[null,"　　土地",null,57573809,2300305,0,59874114,0,0,59874114]
[null,"　　建物",null,157332515,198062115,100525823,254868807,33815898,12541419,221052909]
[null,"　　工作物",null,10054872692,1313807486,801044096,10567636082,5895239410,279697656,4672396672]
[null,"　　その他",null,0,2176000,0,2176000,0,0,2176000]
[null,"　　建設仮勘定",null,1463000,146125272,105552872,42035400,0,0,42035400]
[null," 物品",null,1009264169,27745241,178660,1036830750,931313471,71799684,105517279]
[null,"合計",null,18092924217,1962120739,1026538971,19028505985,10927465341,558271737,8101040644]